BEGIN:VCALENDAR
VERSION:2.0
PRODID:-//Sharan Leventhal - ECPv4.6.11.1//NONSGML v1.0//EN
CALSCALE:GREGORIAN
METHOD:PUBLISH
X-WR-CALNAME:Sharan Leventhal
X-ORIGINAL-URL:http://sharanleventhal.net
X-WR-CALDESC:Events for Sharan Leventhal
BEGIN:VEVENT
DTSTART;TZID=UTC+0:20180310T093000
DTEND;TZID=UTC+0:20180310T093000
DTSTAMP:20260419T202153
CREATED:20180302T135917Z
LAST-MODIFIED:20180302T135917Z
UID:314-1520674200-1520674200@sharanleventhal.net
SUMMARY:ASTA National Conference in Atlanta
DESCRIPTION:Panel – Outside the Box: Interdisciplinary Work and Social Activism in the Studio \n
URL:http://sharanleventhal.net/event/asta-national-conference-in-atlanta/
END:VEVENT
END:VCALENDAR