BEGIN:VCALENDAR
VERSION:2.0
PRODID:-//Sharan Leventhal - ECPv4.6.11.1//NONSGML v1.0//EN
CALSCALE:GREGORIAN
METHOD:PUBLISH
X-WR-CALNAME:Sharan Leventhal
X-ORIGINAL-URL:http://sharanleventhal.net
X-WR-CALDESC:Events for Sharan Leventhal
BEGIN:VEVENT
DTSTART;VALUE=DATE:20170611
DTEND;VALUE=DATE:20170626
DTSTAMP:20260422T010750
CREATED:20170430T202917Z
LAST-MODIFIED:20170430T202917Z
UID:250-1497139200-1498435199@sharanleventhal.net
SUMMARY:FOOSA
DESCRIPTION:Sharan will be teaching at the Fresno Summer Orchestra Academy in California \n
URL:http://sharanleventhal.net/event/foosa/
END:VEVENT
END:VCALENDAR