BEGIN:VCALENDAR
VERSION:2.0
PRODID:-//Sharan Leventhal - ECPv4.6.11.1//NONSGML v1.0//EN
CALSCALE:GREGORIAN
METHOD:PUBLISH
X-WR-CALNAME:Sharan Leventhal
X-ORIGINAL-URL:http://sharanleventhal.net
X-WR-CALDESC:Events for Sharan Leventhal
BEGIN:VEVENT
DTSTART;TZID=UTC+0:20170518T190000
DTEND;TZID=UTC+0:20170518T210000
DTSTAMP:20260422T035701
CREATED:20170120T235213Z
LAST-MODIFIED:20170120T235213Z
UID:241-1495134000-1495141200@sharanleventhal.net
SUMMARY:Gramercy Trio in residence at the Community Music Center of Boston
DESCRIPTION:Music of Saint-Saëns and Fauré \n
URL:http://sharanleventhal.net/event/gramercy-trio-in-residence-at-the-community-music-center-of-boston/
END:VEVENT
END:VCALENDAR