BEGIN:VCALENDAR
VERSION:2.0
PRODID:-//Sharan Leventhal - ECPv4.6.11.1//NONSGML v1.0//EN
CALSCALE:GREGORIAN
METHOD:PUBLISH
X-WR-CALNAME:Sharan Leventhal
X-ORIGINAL-URL:http://sharanleventhal.net
X-WR-CALDESC:Events for Sharan Leventhal
BEGIN:VEVENT
DTSTART;TZID=UTC+0:20251121T200000
DTEND;TZID=UTC+0:20251121T220000
DTSTAMP:20260421T101522
CREATED:20250803T110423Z
LAST-MODIFIED:20250803T140859Z
UID:581-1763755200-1763762400@sharanleventhal.net
SUMMARY:Gunther Schuller Legacy Concert
DESCRIPTION:This year marks the 100th anniversary of Gunther Schuller’s birth. I will be playing two pieces on the Friday concert that culminates a week of activity at Jordan Hall in Boston – one with Marimolin and one with Gramery Trio. Gunther was a towering figure in the world of music and a true mentor. \n  \n \n
URL:http://sharanleventhal.net/event/gunther-schuller-legacy-concert/
LOCATION:30 Gainsborough St\, Boston\, MA\, 02115\, United States
END:VEVENT
END:VCALENDAR