BEGIN:VCALENDAR
VERSION:2.0
PRODID:-//Sharan Leventhal - ECPv4.6.11.1//NONSGML v1.0//EN
CALSCALE:GREGORIAN
METHOD:PUBLISH
X-WR-CALNAME:Sharan Leventhal
X-ORIGINAL-URL:http://sharanleventhal.net
X-WR-CALDESC:Events for Sharan Leventhal
BEGIN:VEVENT
DTSTART;VALUE=DATE:20171104
DTEND;VALUE=DATE:20171105
DTSTAMP:20260421T153137
CREATED:20170712T193525Z
LAST-MODIFIED:20170712T193525Z
UID:292-1509753600-1509839999@sharanleventhal.net
SUMMARY:Marimolin Concert on the Wayland Little Theatre Concerts Series
DESCRIPTION:
URL:http://sharanleventhal.net/event/marimolin-concert-on-the-wayland-little-theatre-concerts-series/
LOCATION:264 Old Connecticut Path\, Wayland\, MA\, 01778\, United States
END:VEVENT
END:VCALENDAR