BEGIN:VCALENDAR
VERSION:2.0
PRODID:-//Sharan Leventhal - ECPv4.6.11.1//NONSGML v1.0//EN
CALSCALE:GREGORIAN
METHOD:PUBLISH
X-WR-CALNAME:Sharan Leventhal
X-ORIGINAL-URL:http://sharanleventhal.net
X-WR-CALDESC:Events for Sharan Leventhal
BEGIN:VEVENT
DTSTART;VALUE=DATE:20170920
DTEND;VALUE=DATE:20170924
DTSTAMP:20260421T210335
CREATED:20170712T192919Z
LAST-MODIFIED:20170712T192919Z
UID:280-1505865600-1506211199@sharanleventhal.net
SUMMARY:Residency at the University of Northern Iowa
DESCRIPTION:
URL:http://sharanleventhal.net/event/residency-at-the-university-of-northern-iowa/
LOCATION:1227 W 27th St\, Cedar Falls\, IA\, 50614\, United States
END:VEVENT
END:VCALENDAR