BEGIN:VCALENDAR
VERSION:2.0
PRODID:-//Sharan Leventhal - ECPv4.6.11.1//NONSGML v1.0//EN
CALSCALE:GREGORIAN
METHOD:PUBLISH
X-WR-CALNAME:Sharan Leventhal
X-ORIGINAL-URL:http://sharanleventhal.net
X-WR-CALDESC:Events for Sharan Leventhal
BEGIN:VEVENT
DTSTART;VALUE=DATE:20170528
DTEND;VALUE=DATE:20170605
DTSTAMP:20260422T023434
CREATED:20170430T202701Z
LAST-MODIFIED:20170430T202701Z
UID:246-1495929600-1496620799@sharanleventhal.net
SUMMARY:Viola & Violin Seminar at Music From Salem (NY)
DESCRIPTION:
URL:http://sharanleventhal.net/event/viola-violin-seminar-at-music-from-salem-ny/
LOCATION:154 Priest Road\, Salem\, NY\, 12865\, United States
END:VEVENT
END:VCALENDAR